BEGIN:VCALENDAR
VERSION:2.0
PRODID:-//Apex-Brasil
CALSCALE:GREGORIAN
X-WR-CALNAME:Apex-Brasil
BEGIN:VEVENT
CLASS:PUBLIC
CREATED:20260421T113937Z
UID:75d839d5-f8ac-4c86-aaff-0ed0a24d2879
DTSTART;VALUE=DATE:20160324T030000Z
DTEND:20160326T030000Z
SUMMARY;LANGUAGE=pt-br:Missão Comercial China
DESCRIPTION:Feira organizada pela theMICAM Milão que ocorre em Xangai, na China. A feira recebe principalmente visitantes do continente Asiático e é considerada uma das feiras mais importantes para o setor nesta região. A feira theMICAM Shanghai ocorre duas vezes ao ano, uma em março para apresentar as coleções de inverno e uma em setembro, para apresentar as coleções de verão.
LOCATION:Xangai, , China
URL;VALUE=URI:https://portal.apexbrasil.com.br/evento/missao-comercial-china0/
TRANSP:OPAQUE
BEGIN:VALARM
ACTION:DISPLAY
TRIGGER;VALUE=DATE-TIME:20160324T030000Z
DESCRIPTION:Lembrete para Missão Comercial China
END:VALARM
END:VEVENT
END:VCALENDAR
		