BEGIN:VCALENDAR
VERSION:2.0
PRODID:-//Apex-Brasil
CALSCALE:GREGORIAN
X-WR-CALNAME:Apex-Brasil
BEGIN:VEVENT
CLASS:PUBLIC
CREATED:20260422T130755Z
UID:808c5603-ae3c-48d4-b537-2ee50ed65ca5
DTSTART;VALUE=DATE:20180515T030000Z
DTEND:20180518T030000Z
SUMMARY;LANGUAGE=pt-br:MISSÃO COMERCIAL NIGÉRIA
DESCRIPTION:A feira Nampo está na 50° edição, tem o objetivo de conectar agricultores e fornecedores.
LOCATION:Lagos, , Nigéria
URL;VALUE=URI:https://portal.apexbrasil.com.br/evento/missao-comercial-nigeria/
TRANSP:OPAQUE
BEGIN:VALARM
ACTION:DISPLAY
TRIGGER;VALUE=DATE-TIME:20180515T030000Z
DESCRIPTION:Lembrete para MISSÃO COMERCIAL NIGÉRIA
END:VALARM
END:VEVENT
END:VCALENDAR
		