BEGIN:VCALENDAR
VERSION:2.0
PRODID:-//Apex-Brasil
CALSCALE:GREGORIAN
X-WR-CALNAME:Apex-Brasil
BEGIN:VEVENT
CLASS:PUBLIC
CREATED:20260423T024058Z
UID:4860d81a-3819-4be0-bf81-fb698de768d8
DTSTART;VALUE=DATE:20231029T210000Z
DTEND:20231102T210000Z
SUMMARY;LANGUAGE=pt-br:Missão E-commerce China 2023
DESCRIPTION:A ApexBrasil realizará entre os dias 30 de outubro e 3 de novembro de 2023, a Missão E-commerce China, voltada para empresas exportadoras e/ou já internacioalizadas, fornecedoras de bens e que buscam iniciar ou ampliar suas operações no mercado chinês por meio do comércio eletrônico.    

A Missão terá como objetivo aprofundar os conhecimentos das empresas brasileiras acerca do ecossistema de e-commerce na China, colocando-se em contato direto com representantes de importantes players do mercado, representantes de plataformas/marketplaces, prestadores de serviço da cadeia de valor do e-commerce, entre outros.  
LOCATION:Pequim, , CHINA
URL;VALUE=URI:https://portal.apexbrasil.com.br/evento/missao-e-commerce-china-2023/
TRANSP:OPAQUE
BEGIN:VALARM
ACTION:DISPLAY
TRIGGER;VALUE=DATE-TIME:20231029T210000Z
DESCRIPTION:Lembrete para Missão E-commerce China 2023
END:VALARM
END:VEVENT
END:VCALENDAR
		