BEGIN:VCALENDAR
VERSION:2.0
PRODID:-//Apex-Brasil
CALSCALE:GREGORIAN
X-WR-CALNAME:Apex-Brasil
BEGIN:VEVENT
CLASS:PUBLIC
CREATED:20260423T091431Z
UID:4b29fe21-d3e3-470e-824f-3cf5fa19468b
DTSTART;VALUE=DATE:20170624T030000Z
DTEND:20170629T030000Z
SUMMARY;LANGUAGE=pt-br:MISSÃO PROSPECTIVA À SUMMER FANCY FOOD
DESCRIPTION:Missão prospectiva com o intuito de promover a exportação de produtos brasileiros do Complexo Setorial de Alimentos e Bebidas especiais com conceito regional, típico, étnico e/ou gourmet ao mercado norte-americano, no âmbito de uma das principais feiras internacionais de referência deste segmento, a SUMMER FANCY FOOD.
LOCATION:Nova York, , Estados Unidos da América
URL;VALUE=URI:https://portal.apexbrasil.com.br/evento/missao-prospectiva-a-summer-fancy-food/
TRANSP:OPAQUE
BEGIN:VALARM
ACTION:DISPLAY
TRIGGER;VALUE=DATE-TIME:20170624T030000Z
DESCRIPTION:Lembrete para MISSÃO PROSPECTIVA À SUMMER FANCY FOOD
END:VALARM
END:VEVENT
END:VCALENDAR
		