BEGIN:VCALENDAR
VERSION:2.0
PRODID:-//Apex-Brasil
CALSCALE:GREGORIAN
X-WR-CALNAME:Apex-Brasil
BEGIN:VEVENT
CLASS:PUBLIC
CREATED:20260422T141330Z
UID:59eaa002-c75b-4acd-81aa-f94046368bdd
DTSTART;VALUE=DATE:20150927T030000Z
DTEND:20151003T030000Z
SUMMARY;LANGUAGE=pt-br:Missão Prospectiva - Cuba 2015  - Vertical Serviços
DESCRIPTION:Visita a Distribuidores, fábricas alimentícias, cosméticos etc e clientes corporativos. com o objetivo de :
Desenvolver a imagem das empresas brasileiras; avaliar o nível de competitividade internacional; testar e avaliar a aceitação dos nossos produtos; pesquisar o mercado; captar agentes de mercado (exemplo: representantes comerciais); despertar interesse em possíveis clientes e investidores; desenvolver alianças estratégicas etc
LOCATION:Havana, , Cuba
URL;VALUE=URI:https://portal.apexbrasil.com.br/evento/missao-prospectiva-cuba-2015-vertical-servicos/
TRANSP:OPAQUE
BEGIN:VALARM
ACTION:DISPLAY
TRIGGER;VALUE=DATE-TIME:20150927T030000Z
DESCRIPTION:Lembrete para Missão Prospectiva - Cuba 2015  - Vertical Serviços
END:VALARM
END:VEVENT
END:VCALENDAR
		