BEGIN:VCALENDAR
VERSION:2.0
PRODID:-//Apex-Brasil
CALSCALE:GREGORIAN
X-WR-CALNAME:Apex-Brasil
BEGIN:VEVENT
CLASS:PUBLIC
CREATED:20260422T091310Z
UID:d3366c3c-990d-434b-a6a7-b0e76edfd8dd
DTSTART;VALUE=DATE:20150408T030000Z
DTEND:20150408T030000Z
SUMMARY;LANGUAGE=pt-br:Nearshore Nexus 2015
DESCRIPTION:                            

O Nearshore tem com foco em líderes de TI dos EUA e da América Latina interessados em otimizar seus negócios por meio da utilização efetiva de tecnologia da informação a custos competitivos em 
soluções nearshore. Evento de conteúdo - formato conferência - 1 dia de evento com jantar exclusivo Brasil IT+, com a participação de 15-20 convidados selecionados: CIOs, influenciadores e jornalistas.
Sessões sobre tendências, melhores praticas e novidades do setor e informações do mercado.
                        
LOCATION:Nova York, , Estados Unidos
URL;VALUE=URI:https://portal.apexbrasil.com.br/evento/nearshore-nexus-2015/
TRANSP:OPAQUE
BEGIN:VALARM
ACTION:DISPLAY
TRIGGER;VALUE=DATE-TIME:20150408T030000Z
DESCRIPTION:Lembrete para Nearshore Nexus 2015
END:VALARM
END:VEVENT
END:VCALENDAR
		