BEGIN:VCALENDAR
VERSION:2.0
PRODID:-//Apex-Brasil
CALSCALE:GREGORIAN
X-WR-CALNAME:Apex-Brasil
BEGIN:VEVENT
CLASS:PUBLIC
CREATED:20260422T105351Z
UID:f2b0c2e0-4db3-4e79-8ed5-cfe7fe9f88ee
DTSTART;VALUE=DATE:20161106T020000Z
DTEND:20161109T020000Z
SUMMARY;LANGUAGE=pt-br:PACK EXPO 2016
DESCRIPTION:Os EUA são mercado-alvo do Think Plastic Brazil e um importantíssimo mercado-destino das exportações das suas empresas participantes: são o 2º maior destino das nossas exportações. Foram exportados aproximadamente 23 milhões de USD considerados os meses de janeiro a julho de 2016. Há desconcentração tanto de produtos quando de empresas exportadoras: foram 21 NCMs exportados por 26 diferentes empresas brasileiras do programa.
LOCATION:CHICAGO, , ESTADOS UNIDOS
URL;VALUE=URI:https://portal.apexbrasil.com.br/evento/pack-expo-2016/
TRANSP:OPAQUE
BEGIN:VALARM
ACTION:DISPLAY
TRIGGER;VALUE=DATE-TIME:20161106T020000Z
DESCRIPTION:Lembrete para PACK EXPO 2016
END:VALARM
END:VEVENT
END:VCALENDAR
		