BEGIN:VCALENDAR
VERSION:2.0
PRODID:-//Apex-Brasil
CALSCALE:GREGORIAN
X-WR-CALNAME:Apex-Brasil
BEGIN:VEVENT
CLASS:PUBLIC
CREATED:20260422T091154Z
UID:af926ec0-486e-4e7f-82c2-d4342e5e5028
DTSTART;VALUE=DATE:20160712T030000Z
DTEND:20160714T030000Z
SUMMARY;LANGUAGE=pt-br:Pollutec Brasil
DESCRIPTION:Trata-se de visita comercial à feira  POLLUTEC, que é  feira internacional voltada ao segmento de Meio Ambiente e Tecnologias de Produção Limpa. Criada há 40 anos na França, a feira já teve versões também em Marrocos e Argélia. A proposta da Rede CIN é organizar um Encontro Internacional de Negócios dentro do evento, que contará com um estande do Sistema Indústria (CNI, SENAI, SESI e IEL) para trabalhar os quatros pilares da indústria
LOCATION:São Paulo, , Brasil
URL;VALUE=URI:https://portal.apexbrasil.com.br/evento/pollutec-brasil/
TRANSP:OPAQUE
BEGIN:VALARM
ACTION:DISPLAY
TRIGGER;VALUE=DATE-TIME:20160712T030000Z
DESCRIPTION:Lembrete para Pollutec Brasil
END:VALARM
END:VEVENT
END:VCALENDAR
		