BEGIN:VCALENDAR
VERSION:2.0
PRODID:-//Apex-Brasil
CALSCALE:GREGORIAN
X-WR-CALNAME:Apex-Brasil
BEGIN:VEVENT
CLASS:PUBLIC
CREATED:20260424T115239Z
UID:511a92ea-81af-4853-8057-78bd96d9067f
DTSTART;VALUE=DATE:20210412T000000Z
DTEND:20210416T000000Z
SUMMARY;LANGUAGE=pt-br:PRODEXPO 2021
DESCRIPTION:A PRODEXPO é a maior e mais importante feira de alimentos da Rússia, além de importante plataforma de negócios para os países da Ásia Central. Na edição de 2020, a feira reuniu 2.664 expositores, 10% a mais que no ano anterior, dos quais 1.853 empresas eram russas e 811 estrangeiras oriundas de 73 países. Pelo lado dos visitantes, 115 países marcaram presença por meio de 68.647 pessoas com expressiva participação de compradores e distribuidores. 

Não perca esta oportunidade!
O prazo para inscrição no evento é até o dia 11/10/2020, as inscrições realizadas após esta data serão consideradas em lista de espera.
LOCATION:Moscou, , RÚSSIA
URL;VALUE=URI:https://portal.apexbrasil.com.br/evento/prodexpo-2021/
TRANSP:OPAQUE
BEGIN:VALARM
ACTION:DISPLAY
TRIGGER;VALUE=DATE-TIME:20210412T000000Z
DESCRIPTION:Lembrete para PRODEXPO 2021
END:VALARM
END:VEVENT
END:VCALENDAR
		