BEGIN:VCALENDAR
VERSION:2.0
PRODID:-//Apex-Brasil
CALSCALE:GREGORIAN
X-WR-CALNAME:Apex-Brasil
BEGIN:VEVENT
CLASS:PUBLIC
CREATED:20260424T041602Z
UID:e241b6c2-0673-4da3-b22c-2dec64568754
DTSTART;VALUE=DATE:20160629T030000Z
DTEND:20160701T030000Z
SUMMARY;LANGUAGE=pt-br:Projeto Comprador BIG 2016
DESCRIPTION:O BIG, Brazil’s International Games Business Forum é o primeiro e único evento B2B da indústria de videogames brasileira. O objetivo é alavancar novas oportunidades de negócios no mercado internacional.
Além de palestras internacionais é realizada a Rodada de Negócios com compradores internacionais. Na edição de 2015, além da noite de Pitching, Jogos brasileiros convidados, o evento terá um espaço reservado para o lançamento de jogos nacionais e o “Indie Mega Booth”.
LOCATION:São Paulo, SP, 
URL;VALUE=URI:https://portal.apexbrasil.com.br/evento/projeto-comprador-big-2016/
TRANSP:OPAQUE
BEGIN:VALARM
ACTION:DISPLAY
TRIGGER;VALUE=DATE-TIME:20160629T030000Z
DESCRIPTION:Lembrete para Projeto Comprador BIG 2016
END:VALARM
END:VEVENT
END:VCALENDAR
		