BEGIN:VCALENDAR
VERSION:2.0
PRODID:-//Apex-Brasil
CALSCALE:GREGORIAN
X-WR-CALNAME:Apex-Brasil
BEGIN:VEVENT
CLASS:PUBLIC
CREATED:20260421T091239Z
UID:15fc6940-2fc5-47e2-87cb-fc027e77b04a
DTSTART;VALUE=DATE:20141116T020000Z
DTEND:20141119T020000Z
SUMMARY;LANGUAGE=pt-br:Projeto Comprador e Blogueiras Salão +B
DESCRIPTION:O projeto blogueiras acontece durante as edições do Salão +B, com o convite a 4 blogueiras de moda para visitarem os criadores de moda e o Brasil. O projeto nasceu em reuniões de comitê gestor do projeto internacional e foi elencado pelo grupo, como a mais importante estratégia para de impactar o público final dos mercados alvo do PS.

LOCATION:São Paulo, SP, 
URL;VALUE=URI:https://portal.apexbrasil.com.br/evento/projeto-comprador-e-blogueiras-salao-b/
TRANSP:OPAQUE
BEGIN:VALARM
ACTION:DISPLAY
TRIGGER;VALUE=DATE-TIME:20141116T020000Z
DESCRIPTION:Lembrete para Projeto Comprador e Blogueiras Salão +B
END:VALARM
END:VEVENT
END:VCALENDAR
		