BEGIN:VCALENDAR
VERSION:2.0
PRODID:-//Apex-Brasil
CALSCALE:GREGORIAN
X-WR-CALNAME:Apex-Brasil
BEGIN:VEVENT
CLASS:PUBLIC
CREATED:20260423T103347Z
UID:35567dc7-c080-4f21-8cac-1f52bb9c3e9a
DTSTART;VALUE=DATE:20170307T030000Z
DTEND:20170310T030000Z
SUMMARY;LANGUAGE=pt-br:Projeto Comprador e Imagem
DESCRIPTION:A feira EXPO REVESTIR é o cenário escolhido para a realização do Projeto Comprador e Imagem, em quatro dias de evento os compradores e jornalistas convidados conseguem reunir-se com as 45 empresas participantes do Projeto que expõem no evento bem como vislumbrar a pujança e força do setor cerâmico.

LOCATION:São Paulo, SP, 
URL;VALUE=URI:https://portal.apexbrasil.com.br/evento/projeto-comprador-e-imagem0/
TRANSP:OPAQUE
BEGIN:VALARM
ACTION:DISPLAY
TRIGGER;VALUE=DATE-TIME:20170307T030000Z
DESCRIPTION:Lembrete para Projeto Comprador e Imagem
END:VALARM
END:VEVENT
END:VCALENDAR
		