BEGIN:VCALENDAR
VERSION:2.0
PRODID:-//Apex-Brasil
CALSCALE:GREGORIAN
X-WR-CALNAME:Apex-Brasil
BEGIN:VEVENT
CLASS:PUBLIC
CREATED:20260420T142818Z
UID:c4bc35a5-5699-4223-85a8-eeed44b331cd
DTSTART;VALUE=DATE:20160628T030000Z
DTEND:20160629T030000Z
SUMMARY;LANGUAGE=pt-br:Projeto Comprador Feira Formóbile 2016
DESCRIPTION:Projeto Comprador realizado dentro da Feira Formóbile - Feira Internacional de Fornecedores da Indústria de Madeira e Móveis. 
LOCATION:São Paulo, , Brasil
URL;VALUE=URI:https://portal.apexbrasil.com.br/evento/projeto-comprador-feira-formobile-2016/
TRANSP:OPAQUE
BEGIN:VALARM
ACTION:DISPLAY
TRIGGER;VALUE=DATE-TIME:20160628T030000Z
DESCRIPTION:Lembrete para Projeto Comprador Feira Formóbile 2016
END:VALARM
END:VEVENT
END:VCALENDAR
		