BEGIN:VCALENDAR
VERSION:2.0
PRODID:-//Apex-Brasil
CALSCALE:GREGORIAN
X-WR-CALNAME:Apex-Brasil
BEGIN:VEVENT
CLASS:PUBLIC
CREATED:20260422T105615Z
UID:35c90d87-ab9b-ea11-a811-000d3ac18841
DTSTART;VALUE=DATE:20200824T030000Z
DTEND:20200830T030000Z
SUMMARY;LANGUAGE=pt-br:Projeto comprador II - Design Week
DESCRIPTION:Uma agenda de visitas com compradores internacionais para uma experiência Brasil, através da moda, arte, cultura e gastronomia, durante o período de realização do Design Week.
LOCATION:São Paulo, São Paulo, BRASIL
URL;VALUE=URI:https://portal.apexbrasil.com.br/evento/projeto-comprador-ii-design-week/
TRANSP:OPAQUE
BEGIN:VALARM
ACTION:DISPLAY
TRIGGER;VALUE=DATE-TIME:20200824T030000Z
DESCRIPTION:Lembrete para Projeto comprador II - Design Week
END:VALARM
END:VEVENT
END:VCALENDAR
		