BEGIN:VCALENDAR
VERSION:2.0
PRODID:-//Apex-Brasil
CALSCALE:GREGORIAN
X-WR-CALNAME:Apex-Brasil
BEGIN:VEVENT
CLASS:PUBLIC
CREATED:20260421T121948Z
UID:c3c6846e-557b-4ad4-9a79-e669f1a3cbec
DTSTART;VALUE=DATE:20161002T030000Z
DTEND:20161006T030000Z
SUMMARY;LANGUAGE=pt-br:Projeto Comprador Outrobro/2016
DESCRIPTION:O Projeto Comprador consiste em convidarmos e recebermos a visita de potenciais compradores internacionais do setor metal mecânico: Infraestrutura; Petróleo, Gás e Energia; Mineração e Siderurgia. Os compradores participaram junto as empresas de Rodadas de Negócios e visitas agendadas nas fábricas para demonstração de produtos e consultoria para adequação de projetos focados nos mercados. 

Após consolidar os contados durante o Projeto Vendedor Peru, que ocorrerá em Junho/2016, e a Feira – MINEx
LOCATION:Londrina, PR, 
URL;VALUE=URI:https://portal.apexbrasil.com.br/evento/projeto-comprador-outrobro-2016/
TRANSP:OPAQUE
BEGIN:VALARM
ACTION:DISPLAY
TRIGGER;VALUE=DATE-TIME:20161002T030000Z
DESCRIPTION:Lembrete para Projeto Comprador Outrobro/2016
END:VALARM
END:VEVENT
END:VCALENDAR
		