BEGIN:VCALENDAR
VERSION:2.0
PRODID:-//Apex-Brasil
CALSCALE:GREGORIAN
X-WR-CALNAME:Apex-Brasil
BEGIN:VEVENT
CLASS:PUBLIC
CREATED:20260423T233911Z
UID:dbade53e-6af2-4112-95f6-7408c4234e7a
DTSTART;VALUE=DATE:20171128T020000Z
DTEND:20171202T020000Z
SUMMARY;LANGUAGE=pt-br:PROJETO COMPRADOR - VERTICAL ILUMINACAO PUBLICA E COMPONENTES
DESCRIPTION:Vinda ao Brasil de até 03 convidados internacionais com perfil geral do público-alvo do projeto, vertical iluminação pública e/ou componentes , no mês de novembro/2017.
LOCATION:São Paulo, SP, 
URL;VALUE=URI:https://portal.apexbrasil.com.br/evento/projeto-comprador-vertical-iluminacao-publica-e-componentes/
TRANSP:OPAQUE
BEGIN:VALARM
ACTION:DISPLAY
TRIGGER;VALUE=DATE-TIME:20171128T020000Z
DESCRIPTION:Lembrete para PROJETO COMPRADOR - VERTICAL ILUMINACAO PUBLICA E COMPONENTES
END:VALARM
END:VEVENT
END:VCALENDAR
		