BEGIN:VCALENDAR
VERSION:2.0
PRODID:-//Apex-Brasil
CALSCALE:GREGORIAN
X-WR-CALNAME:Apex-Brasil
BEGIN:VEVENT
CLASS:PUBLIC
CREATED:20260422T105621Z
UID:3e0b94f4-4616-4afd-8a01-fdbb6a044f7c
DTSTART;VALUE=DATE:20140920T030000Z
DTEND:20140921T030000Z
SUMMARY;LANGUAGE=pt-br:PROJETO GRAND PRIX - SINGAPURA
DESCRIPTION:Plataforma inovadora de promoção de relacionamento em ambiente diferenciado durante os grandes prêmios de Fórmula 1.
LOCATION:Singapura, , Singapura
URL;VALUE=URI:https://portal.apexbrasil.com.br/evento/projeto-grand-prix-singapura/
TRANSP:OPAQUE
BEGIN:VALARM
ACTION:DISPLAY
TRIGGER;VALUE=DATE-TIME:20140920T030000Z
DESCRIPTION:Lembrete para PROJETO GRAND PRIX - SINGAPURA
END:VALARM
END:VEVENT
END:VCALENDAR
		