BEGIN:VCALENDAR
VERSION:2.0
PRODID:-//Apex-Brasil
CALSCALE:GREGORIAN
X-WR-CALNAME:Apex-Brasil
BEGIN:VEVENT
CLASS:PUBLIC
CREATED:20260421T030648Z
UID:01cd9f0d-ea43-475e-858e-edaf4ef7b33b
DTSTART;VALUE=DATE:20151030T020000Z
DTEND:20151102T020000Z
SUMMARY;LANGUAGE=pt-br:Projeto Vendedor Brazilian Sports 2015
DESCRIPTION:Convidar cerca de 10 compradores internacionais para participar de um evento intenso de Seminários e Rodadas de
Negócios. O Brazilian Sports Experience 2014 acontecerá em Novembro em sua primeira edição.
LOCATION:Cidade do Panamá, , Panamá
URL;VALUE=URI:https://portal.apexbrasil.com.br/evento/projeto-vendedor-brazilian-sports-2015/
TRANSP:OPAQUE
BEGIN:VALARM
ACTION:DISPLAY
TRIGGER;VALUE=DATE-TIME:20151030T020000Z
DESCRIPTION:Lembrete para Projeto Vendedor Brazilian Sports 2015
END:VALARM
END:VEVENT
END:VCALENDAR
		