BEGIN:VCALENDAR
VERSION:2.0
PRODID:-//Apex-Brasil
CALSCALE:GREGORIAN
X-WR-CALNAME:Apex-Brasil
BEGIN:VEVENT
CLASS:PUBLIC
CREATED:20260419T150806Z
UID:f6b1b371-f600-4c6d-b5aa-3433d117f9dd
DTSTART;VALUE=DATE:20170704T030000Z
DTEND:20170709T030000Z
SUMMARY;LANGUAGE=pt-br:Projeto Vendedor - Setor Metal Mecânico Colômbia 2017
DESCRIPTION:Prospecção de potenciais compradores clientes para a venda de produtos e serviços das empresas do  setor de metal mecânico. Prospecções realizadas através do serviço de matchmaking para a realização de rodadas de negócios e visitas in loco. O projeto vendedor é realizado em local pré-determinado com duração de 2 dias de rodada de negócios e 2 dias de visitas in loco às empresas compradoras.  

LOCATION:Bogotá, , Colômbia
URL;VALUE=URI:https://portal.apexbrasil.com.br/evento/projeto-vendedor-setor-metal-mecanico-colombia-2017/
TRANSP:OPAQUE
BEGIN:VALARM
ACTION:DISPLAY
TRIGGER;VALUE=DATE-TIME:20170704T030000Z
DESCRIPTION:Lembrete para Projeto Vendedor - Setor Metal Mecânico Colômbia 2017
END:VALARM
END:VEVENT
END:VCALENDAR
		