BEGIN:VCALENDAR
VERSION:2.0
PRODID:-//Apex-Brasil
CALSCALE:GREGORIAN
X-WR-CALNAME:Apex-Brasil
BEGIN:VEVENT
CLASS:PUBLIC
CREATED:20260419T185615Z
UID:b6bad2cc-0084-4941-be19-083c6bd010e9
DTSTART;VALUE=DATE:20200702T030000Z
DTEND:20200702T030000Z
SUMMARY;LANGUAGE=pt-br:Rastreabilidade e embalagem de alimentos: Negócios internacionais no contexto da pandemia
DESCRIPTION:A globalização e o fluxo do comércio internacional de produtos do agronegócio têm uma forte influência na economia dos países, porém são altamente susceptíveis a contaminações, sendo alvo de barreiras técnicas e sanitárias. Uma forma de minimizar o efeito dessas barreiras é por meio da avaliação da conformidade, por meio da qual é possível demonstrar que o produto segue normas e padrões de qualidade por meio de certificações. Para tanto, é fundamental a rastreabilidade que possibilita identificar todo o trajeto percorrido pelo produto, bem como os processos a que foi submetido. Considerando o contexto do mundo impacto pela pandemia, espera-se que cada vez mais as empresas atendam às exigências de rastreabilidade de produtos por meio de suas embalagens. Este webinar pretende apresentar informações relevantes, objetivas e práticas sobre o tema.
LOCATION:Brasília, Distrito Federal, BRASIL
URL;VALUE=URI:https://portal.apexbrasil.com.br/evento/rastreabilidade-e-embalagem-de-alimentos-negocios-internacionais-no-contexto-da-pandemia/
TRANSP:OPAQUE
BEGIN:VALARM
ACTION:DISPLAY
TRIGGER;VALUE=DATE-TIME:20200702T030000Z
DESCRIPTION:Lembrete para Rastreabilidade e embalagem de alimentos: Negócios internacionais no contexto da pandemia
END:VALARM
END:VEVENT
END:VCALENDAR
		