BEGIN:VCALENDAR
VERSION:2.0
PRODID:-//Apex-Brasil
CALSCALE:GREGORIAN
X-WR-CALNAME:Apex-Brasil
BEGIN:VEVENT
CLASS:PUBLIC
CREATED:20260423T132752Z
UID:76211b12-5e67-47e8-9f4f-6d664cb6675d
DTSTART;VALUE=DATE:20140901T030000Z
DTEND:20140906T030000Z
SUMMARY;LANGUAGE=pt-br:Roadshow com Diretores Brasileiros 2014
DESCRIPTION:A proposta é que seja desenvolvido um programa híbrido contemplando agendas voltadas a “capacitação” dos profissionais seguido de “screenings” com profissionais de criação/produção das agências de propaganda
LOCATION:, , 
URL;VALUE=URI:https://portal.apexbrasil.com.br/evento/roadshow-com-diretores-brasileiros-2014/
TRANSP:OPAQUE
BEGIN:VALARM
ACTION:DISPLAY
TRIGGER;VALUE=DATE-TIME:20140901T030000Z
DESCRIPTION:Lembrete para Roadshow com Diretores Brasileiros 2014
END:VALARM
END:VEVENT
END:VCALENDAR
		