BEGIN:VCALENDAR
VERSION:2.0
PRODID:-//Apex-Brasil
CALSCALE:GREGORIAN
X-WR-CALNAME:Apex-Brasil
BEGIN:VEVENT
CLASS:PUBLIC
CREATED:20260420T020330Z
UID:ce8949a9-4af8-48ec-9f71-faeed7d3dfbf
DTSTART;VALUE=DATE:20220808T010000Z
DTEND:20220810T010000Z
SUMMARY;LANGUAGE=pt-br:Rodada de Negócios com a rede Walgreens
DESCRIPTION:Compradores da rede de americana de Farmácia e perfumaria estrá em São Paulo prospectando novos fornecedores.
LOCATION:São Paulo, São Paulo, BRASIL
URL;VALUE=URI:https://portal.apexbrasil.com.br/evento/rodada-de-negocios-com-a-rede-walgreens/
TRANSP:OPAQUE
BEGIN:VALARM
ACTION:DISPLAY
TRIGGER;VALUE=DATE-TIME:20220808T010000Z
DESCRIPTION:Lembrete para Rodada de Negócios com a rede Walgreens
END:VALARM
END:VEVENT
END:VCALENDAR
		