BEGIN:VCALENDAR
VERSION:2.0
PRODID:-//Apex-Brasil
CALSCALE:GREGORIAN
X-WR-CALNAME:Apex-Brasil
BEGIN:VEVENT
CLASS:PUBLIC
CREATED:20260419T193521Z
UID:8c281a2f-fda0-42d1-86b2-b4c5791b39e9
DTSTART;VALUE=DATE:20230201T020000Z
DTEND:20231130T020000Z
SUMMARY;LANGUAGE=pt-br:Rodadas de Negócios ECRM 2023
DESCRIPTION:Rodadas de negócios focada em empresas varejistas, organizadas pela empresa ECRM. As rodadas acontecem virtuais e presenciais entre compradores e fornecedores. 

Cada Rodada de Negócios terá um custo de participação, que será subsidiado parcialmente pela ApexBrasil de acordo com a maturidade exportadora de cada empresa. Para consultar os valores da sua Rodada de interesse acesse abaixo:
LOCATION:Miami, , ESTADOS UNIDOS
URL;VALUE=URI:https://portal.apexbrasil.com.br/evento/rodadas-de-negocios-ecrm-2023/
TRANSP:OPAQUE
BEGIN:VALARM
ACTION:DISPLAY
TRIGGER;VALUE=DATE-TIME:20230201T020000Z
DESCRIPTION:Lembrete para Rodadas de Negócios ECRM 2023
END:VALARM
END:VEVENT
END:VCALENDAR
		