BEGIN:VCALENDAR
VERSION:2.0
PRODID:-//Apex-Brasil
CALSCALE:GREGORIAN
X-WR-CALNAME:Apex-Brasil
BEGIN:VEVENT
CLASS:PUBLIC
CREATED:20260423T090614Z
UID:090cd457-5c5a-464c-8d57-c15930b8483e
DTSTART;VALUE=DATE:20160413T030000Z
DTEND:20160417T030000Z
SUMMARY;LANGUAGE=pt-br:SCAA 2016 - The Event
DESCRIPTION:Evento focado em cafés especiais, composto por feira de exposições, simpósio, cursos específicos do setor, competições de barismo e rodadas de negócios

LOCATION:Atlanta, , Estados Unidos
URL;VALUE=URI:https://portal.apexbrasil.com.br/evento/scaa-2016-the-event/
TRANSP:OPAQUE
BEGIN:VALARM
ACTION:DISPLAY
TRIGGER;VALUE=DATE-TIME:20160413T030000Z
DESCRIPTION:Lembrete para SCAA 2016 - The Event
END:VALARM
END:VEVENT
END:VCALENDAR
		