BEGIN:VCALENDAR
VERSION:2.0
PRODID:-//Apex-Brasil
CALSCALE:GREGORIAN
X-WR-CALNAME:Apex-Brasil
BEGIN:VEVENT
CLASS:PUBLIC
CREATED:20260423T115336Z
UID:650ef2a3-cb1e-41ad-9580-38e4395ff3c3
DTSTART;VALUE=DATE:20160217T020000Z
DTEND:20160217T020000Z
SUMMARY;LANGUAGE=pt-br:Seminário de Lançamento do Programa de Internacionalização de Empresas de Alimentos e Bebidas – Estados Unidos
DESCRIPTION:Entre os dias 16 e 18 de fevereiro a Apex-Brasil promove o Seminário para Lançamento do Programa de Internacionalização de Empresas Brasileiras de Alimentos e Bebidas – Estados Unidos. O seminário visa apresentar às empresas brasileiras o Programa de Internacionalização para empresas do setor de alimentos e bebidas. O evento é destinado a executivos e profissionais de empresas que possuem experiência de exportação para os Estados Unidos. 
LOCATION:São Paulo, , Brasil
URL;VALUE=URI:https://portal.apexbrasil.com.br/evento/seminario-de-lancamento-do-programa-de-internacionalizacao-de-empresas-de-alimentos-e-bebidas-estados-unidos/
TRANSP:OPAQUE
BEGIN:VALARM
ACTION:DISPLAY
TRIGGER;VALUE=DATE-TIME:20160217T020000Z
DESCRIPTION:Lembrete para Seminário de Lançamento do Programa de Internacionalização de Empresas de Alimentos e Bebidas – Estados Unidos
END:VALARM
END:VEVENT
END:VCALENDAR
		