BEGIN:VCALENDAR
VERSION:2.0
PRODID:-//Apex-Brasil
CALSCALE:GREGORIAN
X-WR-CALNAME:Apex-Brasil
BEGIN:VEVENT
CLASS:PUBLIC
CREATED:20260421T133620Z
UID:4af698de-3b8a-ea11-a811-000d3ac18841
DTSTART;VALUE=DATE:20201123T030000Z
DTEND:20201126T030000Z
SUMMARY;LANGUAGE=pt-br:SPLASH 2020 - MODA PRAIA
DESCRIPTION:A Splash é uma feira voltada para o segmento de acessórios que acontece duas vezes por ano, a primeira acontecendo antes da temporada de vendas de moda praia e a segunda durante a temporada de vendas das coleções de verão. É um evento bem posicionado, com boa curadoria e tem atraído as marcas por atender na primeira edição os compradores de forma antecipada, com o budget não comprometido em outros eventos.
LOCATION:Paris, , FRANÇA
URL;VALUE=URI:https://portal.apexbrasil.com.br/evento/splash-2020-moda-praia/
TRANSP:OPAQUE
BEGIN:VALARM
ACTION:DISPLAY
TRIGGER;VALUE=DATE-TIME:20201123T030000Z
DESCRIPTION:Lembrete para SPLASH 2020 - MODA PRAIA
END:VALARM
END:VEVENT
END:VCALENDAR
		