BEGIN:VCALENDAR
VERSION:2.0
PRODID:-//Apex-Brasil
CALSCALE:GREGORIAN
X-WR-CALNAME:Apex-Brasil
BEGIN:VEVENT
CLASS:PUBLIC
CREATED:20260423T103401Z
UID:53e5a8ac-b618-44f6-9d1b-d81900c6227f
DTSTART;VALUE=DATE:20150622T030000Z
DTEND:20150625T030000Z
SUMMARY;LANGUAGE=pt-br:Sunny Side Of the Doc 2015
DESCRIPTION:O Sunny Side of the Doc é um dos principais eventos na área de documentários e concentra principalmente players europeus e asiáticos. O evento oferece área de estandes durante quatro dias, os produtores têm a oportunidade de se reunir com commissioning editors, buyers e outros players da indústria, além de fazer parte de workshops, fóruns, sessões de pitching e ter seus projetos expostos na videolibrary online do evento.
LOCATION:La Rochelle, , França
URL;VALUE=URI:https://portal.apexbrasil.com.br/evento/sunny-side-of-the-doc-2015/
TRANSP:OPAQUE
BEGIN:VALARM
ACTION:DISPLAY
TRIGGER;VALUE=DATE-TIME:20150622T030000Z
DESCRIPTION:Lembrete para Sunny Side Of the Doc 2015
END:VALARM
END:VEVENT
END:VCALENDAR
		