BEGIN:VCALENDAR
VERSION:2.0
PRODID:-//Apex-Brasil
CALSCALE:GREGORIAN
X-WR-CALNAME:Apex-Brasil
BEGIN:VEVENT
CLASS:PUBLIC
CREATED:20260420T130517Z
UID:3452a5de-3088-44c0-b752-1da122ab0023
DTSTART;VALUE=DATE:20150818T030000Z
DTEND:20150821T030000Z
SUMMARY;LANGUAGE=pt-br:Tech Mission Startups
DESCRIPTION:Projeto Start Ups - Apoio à missão de 10 startups ao Vale do Silício para apresentação a investidores de participação. 
LOCATION:San Francisco, , Estados Unidos
URL;VALUE=URI:https://portal.apexbrasil.com.br/evento/tech-mission-startups/
TRANSP:OPAQUE
BEGIN:VALARM
ACTION:DISPLAY
TRIGGER;VALUE=DATE-TIME:20150818T030000Z
DESCRIPTION:Lembrete para Tech Mission Startups
END:VALARM
END:VEVENT
END:VCALENDAR
		