BEGIN:VCALENDAR
VERSION:2.0
PRODID:-//Apex-Brasil
CALSCALE:GREGORIAN
X-WR-CALNAME:Apex-Brasil
BEGIN:VEVENT
CLASS:PUBLIC
CREATED:20260423T103520Z
UID:6489a744-ecf9-4fff-9902-1f0b6ce68715
DTSTART;VALUE=DATE:20180320T030000Z
DTEND:20180320T030000Z
SUMMARY;LANGUAGE=pt-br:UK Energy in Brazil 2018
DESCRIPTION:Evento de Energia que o Governo Britânico promove anualmente com objetivo de estimular negócios e parcerias entre empresas britânicas e brasileiras neste setor.
LOCATION:Rio de Janeiro, RJ, 
URL;VALUE=URI:https://portal.apexbrasil.com.br/evento/uk-energy-in-brazil-2018/
TRANSP:OPAQUE
BEGIN:VALARM
ACTION:DISPLAY
TRIGGER;VALUE=DATE-TIME:20180320T030000Z
DESCRIPTION:Lembrete para UK Energy in Brazil 2018
END:VALARM
END:VEVENT
END:VCALENDAR
		