BEGIN:VCALENDAR
VERSION:2.0
PRODID:-//Apex-Brasil
CALSCALE:GREGORIAN
X-WR-CALNAME:Apex-Brasil
BEGIN:VEVENT
CLASS:PUBLIC
CREATED:20260422T105701Z
UID:f81cfa98-00c7-4a3c-9c6c-653f5f957a4a
DTSTART;VALUE=DATE:20170524T030000Z
DTEND:20170526T030000Z
SUMMARY;LANGUAGE=pt-br:VI ENCONTRO INTERNACIONAL DE NEGÓCIOS – ENIN
DESCRIPTION:O ENIN é um evento bienal e está em sua sexta edição. O evento visa propiciar a comercialização de diversos produtos brasileiros no intuito de internacionalizar a região nordeste e demais regiões brasileiras de forma sustentável e permanente. Tem como foco a realização de rodadas de negócios entre micro e pequenas empresas e compradores nacionais e internacionais, gerando assim, oportunidades de comercialização interna e externa de seus produtos. 
LOCATION:Maceió, AL, 
URL;VALUE=URI:https://portal.apexbrasil.com.br/evento/vi-encontro-internacional-de-negocios-enin/
TRANSP:OPAQUE
BEGIN:VALARM
ACTION:DISPLAY
TRIGGER;VALUE=DATE-TIME:20170524T030000Z
DESCRIPTION:Lembrete para VI ENCONTRO INTERNACIONAL DE NEGÓCIOS – ENIN
END:VALARM
END:VEVENT
END:VCALENDAR
		