BEGIN:VCALENDAR
VERSION:2.0
PRODID:-//Apex-Brasil
CALSCALE:GREGORIAN
X-WR-CALNAME:Apex-Brasil
BEGIN:VEVENT
CLASS:PUBLIC
CREATED:20260422T203423Z
UID:f67de272-832c-43cc-9d62-248ae3f3cb6c
DTSTART;VALUE=DATE:20210824T000000Z
DTEND:20210824T000000Z
SUMMARY;LANGUAGE=pt-br:Webinar - Direto do Mercado - Bogotá
DESCRIPTION:Webinar - Direto do Mercado - Bogotá
Data: 24/08/2021
Horário: 11h

Série de Webinars Direto do Mercado, realizado pela Coordenação de Qualificação em parceria com os escritórios internacionais da Apex-Brasil para empresas não-exportadoras e exportadoras iniciantes. A série se estrutura em um calendário com o objetivo de apresentar mercados potenciais que auxiliem as empresas em suas priorizações e análises
LOCATION:Brasília, Distrito Federal, BRASIL
URL;VALUE=URI:https://portal.apexbrasil.com.br/evento/webinar-direto-do-mercado-bogota/
TRANSP:OPAQUE
BEGIN:VALARM
ACTION:DISPLAY
TRIGGER;VALUE=DATE-TIME:20210824T000000Z
DESCRIPTION:Lembrete para Webinar - Direto do Mercado - Bogotá
END:VALARM
END:VEVENT
END:VCALENDAR
		