BEGIN:VCALENDAR
VERSION:2.0
PRODID:-//Apex-Brasil
CALSCALE:GREGORIAN
X-WR-CALNAME:Apex-Brasil
BEGIN:VEVENT
CLASS:PUBLIC
CREATED:20260420T030150Z
UID:868f60ed-6074-ea11-a811-000d3ac1884e
DTSTART;VALUE=DATE:20200409T030000Z
DTEND:20200409T030000Z
SUMMARY;LANGUAGE=pt-br:WEBINAR: “Navegando com as empresas no Painel COVID-19
DESCRIPTION:A Apex-Brasil realizará no dia 9 de abril, às 10h (horário de Brasília), o webinar “Navegando com as empresas no Painel COVID-19”. Durante a transmissão será apresentada uma nova ferramenta de informações, desenvolvida pela Apex-Brasil, para auxiliar as empresas brasileiras e os formuladores de políticas públicas na identificação dos impactos advindos da pandemia do novo coronavírus sobre o comércio exterior brasileiro. O webinar apresentará as funcionalidades do Painel COVID-19 e como os usuários poderão acessar as informações e compreender melhor os reflexos da pandemia na evolução do comércio exterior brasileiro nos primeiros meses de 2020. 
LOCATION:Brasília, Distrito Federal, BRASIL
URL;VALUE=URI:https://portal.apexbrasil.com.br/evento/webinar-navegando-com-as-empresas-no-painel-covid-19/
TRANSP:OPAQUE
BEGIN:VALARM
ACTION:DISPLAY
TRIGGER;VALUE=DATE-TIME:20200409T030000Z
DESCRIPTION:Lembrete para WEBINAR: “Navegando com as empresas no Painel COVID-19
END:VALARM
END:VEVENT
END:VCALENDAR
		