BEGIN:VCALENDAR
VERSION:2.0
PRODID:-//Apex-Brasil
CALSCALE:GREGORIAN
X-WR-CALNAME:Apex-Brasil
BEGIN:VEVENT
CLASS:PUBLIC
CREATED:20260421T133510Z
UID:290deb67-6b2d-4cbd-ba10-34e169747940
DTSTART;VALUE=DATE:20171025T020000Z
DTEND:20171029T020000Z
SUMMARY;LANGUAGE=pt-br:WOMEX
DESCRIPTION:A Womex é uma feira voltada principalmente aos negócios com show ao vivo e parcerias com gravadoras, selos e editoras, em especial àqueles dedicados a World Music, contando com os mais importantes compradores de shows do mundo, sendo a maior do ramo, com mais de 90 países representados em estandes.

LOCATION:Katowice, , Polônia
URL;VALUE=URI:https://portal.apexbrasil.com.br/evento/womex0/
TRANSP:OPAQUE
BEGIN:VALARM
ACTION:DISPLAY
TRIGGER;VALUE=DATE-TIME:20171025T020000Z
DESCRIPTION:Lembrete para WOMEX
END:VALARM
END:VEVENT
END:VCALENDAR
		