BEGIN:VCALENDAR
VERSION:2.0
PRODID:-//Apex-Brasil
CALSCALE:GREGORIAN
X-WR-CALNAME:Apex-Brasil
BEGIN:VEVENT
CLASS:PUBLIC
CREATED:20260424T084044Z
UID:09953297-a65b-4a4d-bf08-6b95e669e610
DTSTART;VALUE=DATE:20230820T000000Z
DTEND:20230822T000000Z
SUMMARY;LANGUAGE=pt-br:Xchange - 2023
DESCRIPTION:O XChange promove o encontro entre fornecedores de tecnologia com distribuidores no mercado americano, a fim de construir relacionamentos comerciais estratégicos.
LOCATION:NASHVILLE, , ESTADOS UNIDOS
URL;VALUE=URI:https://portal.apexbrasil.com.br/evento/xchange-2023/
TRANSP:OPAQUE
BEGIN:VALARM
ACTION:DISPLAY
TRIGGER;VALUE=DATE-TIME:20230820T000000Z
DESCRIPTION:Lembrete para Xchange - 2023
END:VALARM
END:VEVENT
END:VCALENDAR
		